BEGIN:VCALENDAR
VERSION:2.0
PRODID:-//Yucca Valley Arts Center - ECPv4.6.14.1//NONSGML v1.0//EN
CALSCALE:GREGORIAN
METHOD:PUBLISH
X-WR-CALNAME:Yucca Valley Arts Center
X-ORIGINAL-URL:https://yvarts.org
X-WR-CALDESC:Events for Yucca Valley Arts Center
BEGIN:VEVENT
DTSTART;TZID=America/Los_Angeles:20210716T180000
DTEND;TZID=America/Los_Angeles:20210716T220000
DTSTAMP:20260425T165123
CREATED:20210710T202227Z
LAST-MODIFIED:20210711T003247Z
UID:17606-1626458400-1626472800@yvarts.org
SUMMARY:BAZAART NIGHTS arts fair & market!
DESCRIPTION:\n\n\n\n\n\n\nGREATER JOSHUA TREE\, CA — The Hi-Desert Cultural Center is launching the region’s largest summer fair and market\, BAZAART NIGHTS—where fine artists\, crafters\, boutique fooderies\, jewelers\, clothiers\, and more come together under one air-conditioned roof in a celebratory environment as they market their creations\, classes\, and offerings to locals and world travelers alike. In an epic\, indoor\, festival-like space sure to attract both the casual customer\, the tourist\, and the aficionado\, fairgoers may be treated to an eclectic silent film series\, reasonably-priced cold spirits at the bar\, a misted “relaxation station\,” classic and exotic cars\, and outdoor food vendors to satisfy their on-site food cravings. Finally once again\, enjoy the company of so many who you’ve missed over this past year. \nBAZAART NIGHTS is FREE to the public and will be held every Friday night July 16 through September 3 from 6-10pm at the Yucca Valley Visual & Performing Arts Center located at 58325 CA-62. The Cultural Center does not take commission from vendor’s sales. Vendor spaces are limited and filling fast. If you are a vendor who would like to reserve a space\, click the button below: \n\n\n\n\n\n\n\n\n\n\n\n\n\nVENDOR REGISTRATION\n\n\n\n\n\n\n\n
URL:https://yvarts.org/event/bazaart-nights-arts-fair-market/2021-07-16
LOCATION:58325 Hwy 62\, Yucca Valley\, CA\, 92284\, United States
GEO:34.1305954;-116.3906298
X-APPLE-STRUCTURED-LOCATION;VALUE=URI;X-ADDRESS=58325 Hwy 62 Yucca Valley CA 92284 United States;X-APPLE-RADIUS=500;X-TITLE=58325 Hwy 62:geo:-116.3906298,34.1305954
CATEGORIES:Upcoming
ATTACH;FMTTYPE=image/jpeg:https://yvarts.org/wp-content/uploads/2021/07/Bazaart-Nights-Promo-Graphic-SMALL.jpg
END:VEVENT
END:VCALENDAR